BEGIN:VCALENDAR
VERSION:2.0
PRODID:
CALSCALE:GREGORIAN
METHOD:PUBLISH
BEGIN:VTIMEZONE
TZID:America/New_York
BEGIN:STANDARD
DTSTART:20271107T060000
TZOFFSETTO:-0500
TZOFFSETFROM:-0400
RRULE:FREQ=YEARLY;BYMONTH=11;BYDAY=1SU
END:STANDARD
BEGIN:DAYLIGHT
DTSTART:20270314T070000
TZOFFSETTO:-0400
TZOFFSETFROM:-0500
RRULE:FREQ=YEARLY;BYMONTH=3;BYDAY=2SU
END:DAYLIGHT
END:VTIMEZONE
BEGIN:VEVENT
UID:
DTSTART:20270217T090000
DTEND:20270218T160000
SUMMARY:Fiberdays 27
DESCRIPTION:
LOCATION:Messe Frankfurt (hal 3.1)\,  Ludwig-Erhard-Anlage 1\, 60327\,
  Frankfurt am Main\, Duitsland
DTSTAMP:20260423T054925Z
END:VEVENT
END:VCALENDAR
