BEGIN:VCALENDAR
VERSION:2.0
PRODID:
CALSCALE:GREGORIAN
METHOD:PUBLISH
BEGIN:VTIMEZONE
TZID:America/New_York
BEGIN:STANDARD
DTSTART:20271107T060000
TZOFFSETTO:-0500
TZOFFSETFROM:-0400
RRULE:FREQ=YEARLY;BYMONTH=11;BYDAY=1SU
END:STANDARD
BEGIN:DAYLIGHT
DTSTART:20270314T070000
TZOFFSETTO:-0400
TZOFFSETFROM:-0500
RRULE:FREQ=YEARLY;BYMONTH=3;BYDAY=2SU
END:DAYLIGHT
END:VTIMEZONE
BEGIN:VEVENT
UID:
DTSTART:20270301T080000
DTEND:20270304T220000
SUMMARY:Mobile World Congress 2027
DESCRIPTION:
LOCATION:Fira Barcelona\, Av. Joan Carles I\, 64\, 08908 L'Hospitalet 
 de Llobregat\, Barcelona\, Spanje
DTSTAMP:20260424T162413Z
END:VEVENT
END:VCALENDAR
